BEGIN:VCALENDAR
VERSION:2.0
PRODID:-//Ringtennis - ECPv6.15.20//NONSGML v1.0//EN
CALSCALE:GREGORIAN
METHOD:PUBLISH
X-ORIGINAL-URL:https://ringtennis.de:
X-WR-CALDESC:Veranstaltungen für Ringtennis
REFRESH-INTERVAL;VALUE=DURATION:PT1H
X-Robots-Tag:noindex
X-PUBLISHED-TTL:PT1H
BEGIN:VTIMEZONE
TZID:Europe/Berlin
BEGIN:DAYLIGHT
TZOFFSETFROM:+0100
TZOFFSETTO:+0200
TZNAME:CEST
DTSTART:20220327T010000
END:DAYLIGHT
BEGIN:STANDARD
TZOFFSETFROM:+0200
TZOFFSETTO:+0100
TZNAME:CET
DTSTART:20221030T010000
END:STANDARD
BEGIN:DAYLIGHT
TZOFFSETFROM:+0100
TZOFFSETTO:+0200
TZNAME:CEST
DTSTART:20230326T010000
END:DAYLIGHT
BEGIN:STANDARD
TZOFFSETFROM:+0200
TZOFFSETTO:+0100
TZNAME:CET
DTSTART:20231029T010000
END:STANDARD
BEGIN:DAYLIGHT
TZOFFSETFROM:+0100
TZOFFSETTO:+0200
TZNAME:CEST
DTSTART:20240331T010000
END:DAYLIGHT
BEGIN:STANDARD
TZOFFSETFROM:+0200
TZOFFSETTO:+0100
TZNAME:CET
DTSTART:20241027T010000
END:STANDARD
END:VTIMEZONE
BEGIN:VEVENT
DTSTART;TZID=Europe/Berlin:20231125T100000
DTEND;TZID=Europe/Berlin:20231125T150000
DTSTAMP:20260421T120457
CREATED:20231019T190157Z
LAST-MODIFIED:20231019T191126Z
UID:32659-1700906400-1700924400@ringtennis.de
SUMMARY:Jugendliga Nord 2023/24
DESCRIPTION:In der Hinrunde der Jugendliga Nord treffen die Jugendmannschaften aus Norddeutschland aufeinander. Die besten zwei Mannschaften nach der Rückrunde qualifizieren sich für die Deutschen Jugendmannschaftsmeisterschaften 2024.
URL:https://ringtennis.de:/termine/jugendliga-nord-2023-24/
LOCATION:Suderwich – Günter-Hörster-Halle\, Markomannenstraße 16\, Recklinghausen\, 45665
CATEGORIES:Liga
END:VEVENT
END:VCALENDAR