BEGIN:VCALENDAR
VERSION:2.0
PRODID:-//Ringtennis - ECPv6.15.20//NONSGML v1.0//EN
CALSCALE:GREGORIAN
METHOD:PUBLISH
X-WR-CALNAME:Ringtennis
X-ORIGINAL-URL:https://ringtennis.de:
X-WR-CALDESC:Veranstaltungen für Ringtennis
REFRESH-INTERVAL;VALUE=DURATION:PT1H
X-Robots-Tag:noindex
X-PUBLISHED-TTL:PT1H
BEGIN:VTIMEZONE
TZID:Europe/Berlin
BEGIN:DAYLIGHT
TZOFFSETFROM:+0100
TZOFFSETTO:+0200
TZNAME:CEST
DTSTART:20230326T010000
END:DAYLIGHT
BEGIN:STANDARD
TZOFFSETFROM:+0200
TZOFFSETTO:+0100
TZNAME:CET
DTSTART:20231029T010000
END:STANDARD
BEGIN:DAYLIGHT
TZOFFSETFROM:+0100
TZOFFSETTO:+0200
TZNAME:CEST
DTSTART:20240331T010000
END:DAYLIGHT
BEGIN:STANDARD
TZOFFSETFROM:+0200
TZOFFSETTO:+0100
TZNAME:CET
DTSTART:20241027T010000
END:STANDARD
BEGIN:DAYLIGHT
TZOFFSETFROM:+0100
TZOFFSETTO:+0200
TZNAME:CEST
DTSTART:20250330T010000
END:DAYLIGHT
BEGIN:STANDARD
TZOFFSETFROM:+0200
TZOFFSETTO:+0100
TZNAME:CET
DTSTART:20251026T010000
END:STANDARD
END:VTIMEZONE
BEGIN:VEVENT
DTSTART;TZID=Europe/Berlin:20240303T090000
DTEND;TZID=Europe/Berlin:20240303T170000
DTSTAMP:20260421T060350
CREATED:20231219T105336Z
LAST-MODIFIED:20240228T211900Z
UID:33727-1709456400-1709485200@ringtennis.de
SUMMARY:Deutsche Vereinsmeisterschaften 2024
DESCRIPTION:Bei den Deutschen Vereinsmeisterschaften treten die jeweils zwei besten Teams der einzelnen Regionalligen (Norden\, Mitte\, Süd) gegeneinander an um die beste deutsche Mannschaft dieser Saison zu ermitteln. Das Turnier wird in Suderwich stattfinden. \n\n  \n    \n      \n        draft\n        \n          Spielplan DVM 2024 \n          PDF \n        \n        download
URL:https://ringtennis.de:/termine/deutsche-vereinsmeisterschaften-2024/
LOCATION:Suderwich – Günter-Hörster-Halle\, Markomannenstraße 16\, Recklinghausen\, 45665
CATEGORIES:Meisterschaft
END:VEVENT
BEGIN:VEVENT
DTSTART;TZID=Europe/Berlin:20240303T090000
DTEND;TZID=Europe/Berlin:20240303T170000
DTSTAMP:20260421T060350
CREATED:20231219T105541Z
LAST-MODIFIED:20240228T211857Z
UID:33729-1709456400-1709485200@ringtennis.de
SUMMARY:Deutsche Jugendmannschaftsmeisterschaften 2024
DESCRIPTION:Bei den Deutschen Jugendmannschaftsmeisterschaften treffen die zwei besten norddeutschen Mannschaften auf die zwei stärksten Teams aus der Jugendliga Süd. Die beste Mannschaft wird Deutscher Jugendmannschaftsmeister 2024. \n\n  \n    \n      \n        draft\n        \n          Spielplan DJMM 2024 \n          PDF \n        \n        download
URL:https://ringtennis.de:/termine/deutsche-jugendmannschaftsmeisterschaften-2024/
LOCATION:Suderwich – Günter-Hörster-Halle\, Markomannenstraße 16\, Recklinghausen\, 45665
CATEGORIES:Meisterschaft
END:VEVENT
END:VCALENDAR