BEGIN:VCALENDAR
VERSION:2.0
PRODID:-//Ringtennis - ECPv6.15.20//NONSGML v1.0//EN
CALSCALE:GREGORIAN
METHOD:PUBLISH
X-ORIGINAL-URL:https://ringtennis.de:
X-WR-CALDESC:Veranstaltungen für Ringtennis
REFRESH-INTERVAL;VALUE=DURATION:PT1H
X-Robots-Tag:noindex
X-PUBLISHED-TTL:PT1H
BEGIN:VTIMEZONE
TZID:Europe/Berlin
BEGIN:DAYLIGHT
TZOFFSETFROM:+0100
TZOFFSETTO:+0200
TZNAME:CEST
DTSTART:20230326T010000
END:DAYLIGHT
BEGIN:STANDARD
TZOFFSETFROM:+0200
TZOFFSETTO:+0100
TZNAME:CET
DTSTART:20231029T010000
END:STANDARD
BEGIN:DAYLIGHT
TZOFFSETFROM:+0100
TZOFFSETTO:+0200
TZNAME:CEST
DTSTART:20240331T010000
END:DAYLIGHT
BEGIN:STANDARD
TZOFFSETFROM:+0200
TZOFFSETTO:+0100
TZNAME:CET
DTSTART:20241027T010000
END:STANDARD
BEGIN:DAYLIGHT
TZOFFSETFROM:+0100
TZOFFSETTO:+0200
TZNAME:CEST
DTSTART:20250330T010000
END:DAYLIGHT
BEGIN:STANDARD
TZOFFSETFROM:+0200
TZOFFSETTO:+0100
TZNAME:CET
DTSTART:20251026T010000
END:STANDARD
END:VTIMEZONE
BEGIN:VEVENT
DTSTART;TZID=Europe/Berlin:20240427T090000
DTEND;TZID=Europe/Berlin:20240428T140000
DTSTAMP:20260421T043513
CREATED:20240120T093150Z
LAST-MODIFIED:20240426T175539Z
UID:33824-1714208400-1714312800@ringtennis.de
SUMMARY:Krönchenturnier 2024
DESCRIPTION:Auch in diesem Jahr veranstaltet die RTG Weidenau ihr traditionelles Krönchenturnier. Das Turnier wird am 27./28. April stattfinden. \n\n  \n    \n      \n        draft\n        \n          Ausschreibung - Krönchenturnier 2024 \n          PDF \n        \n        download\n      \n    \n  \n  \n\n  \n    \n      \n        draft\n        \n          Meldebogen - Krönchenturnier 2024 \n          XLS \n        \n        download
URL:https://ringtennis.de:/termine/kroenchenturnier-2024/
LOCATION:Siegen – Bertha-von-Suttner Gesamtschule\, Kolpingstraße 35\, Siegen\, 57072
CATEGORIES:Offenes Turnier
END:VEVENT
END:VCALENDAR