BEGIN:VCALENDAR
VERSION:2.0
PRODID:-//Ringtennis - ECPv6.15.20//NONSGML v1.0//EN
CALSCALE:GREGORIAN
METHOD:PUBLISH
X-ORIGINAL-URL:https://ringtennis.de:
X-WR-CALDESC:Veranstaltungen für Ringtennis
REFRESH-INTERVAL;VALUE=DURATION:PT1H
X-Robots-Tag:noindex
X-PUBLISHED-TTL:PT1H
BEGIN:VTIMEZONE
TZID:Europe/Berlin
BEGIN:DAYLIGHT
TZOFFSETFROM:+0100
TZOFFSETTO:+0200
TZNAME:CEST
DTSTART:20230326T010000
END:DAYLIGHT
BEGIN:STANDARD
TZOFFSETFROM:+0200
TZOFFSETTO:+0100
TZNAME:CET
DTSTART:20231029T010000
END:STANDARD
BEGIN:DAYLIGHT
TZOFFSETFROM:+0100
TZOFFSETTO:+0200
TZNAME:CEST
DTSTART:20240331T010000
END:DAYLIGHT
BEGIN:STANDARD
TZOFFSETFROM:+0200
TZOFFSETTO:+0100
TZNAME:CET
DTSTART:20241027T010000
END:STANDARD
BEGIN:DAYLIGHT
TZOFFSETFROM:+0100
TZOFFSETTO:+0200
TZNAME:CEST
DTSTART:20250330T010000
END:DAYLIGHT
BEGIN:STANDARD
TZOFFSETFROM:+0200
TZOFFSETTO:+0100
TZNAME:CET
DTSTART:20251026T010000
END:STANDARD
END:VTIMEZONE
BEGIN:VEVENT
DTSTART;TZID=Europe/Berlin:20240504T130000
DTEND;TZID=Europe/Berlin:20240505T170000
DTSTAMP:20260421T032411
CREATED:20240120T115707Z
LAST-MODIFIED:20240503T141328Z
UID:33831-1714827600-1714928400@ringtennis.de
SUMMARY:Mittelrheinische Meisterschaften 2024
DESCRIPTION:Bei den mittelrheinischen Meisterschaften spielen die mittelrheinischen Ringtennis-Vereine um den Landestitel. Die zwei besten Spielerinnen und Spieler der Landesmeisterschaften qualifizieren sich für die Norddeutschen Meisterschaften.
URL:https://ringtennis.de:/termine/mittelrheinische-meisterschaften-2024/
LOCATION:Neuwied – Vereinsgelände TV Heddesdorf\, Bürgermeister-Bidgenbach-Straße 11\, Neuwied\, 56564
CATEGORIES:Meisterschaft
END:VEVENT
END:VCALENDAR