BEGIN:VCALENDAR
VERSION:2.0
PRODID:-//Ringtennis - ECPv6.15.20//NONSGML v1.0//EN
CALSCALE:GREGORIAN
METHOD:PUBLISH
X-WR-CALNAME:Ringtennis
X-ORIGINAL-URL:https://ringtennis.de:
X-WR-CALDESC:Veranstaltungen für Ringtennis
REFRESH-INTERVAL;VALUE=DURATION:PT1H
X-Robots-Tag:noindex
X-PUBLISHED-TTL:PT1H
BEGIN:VTIMEZONE
TZID:Europe/Berlin
BEGIN:DAYLIGHT
TZOFFSETFROM:+0100
TZOFFSETTO:+0200
TZNAME:CEST
DTSTART:20230326T010000
END:DAYLIGHT
BEGIN:STANDARD
TZOFFSETFROM:+0200
TZOFFSETTO:+0100
TZNAME:CET
DTSTART:20231029T010000
END:STANDARD
BEGIN:DAYLIGHT
TZOFFSETFROM:+0100
TZOFFSETTO:+0200
TZNAME:CEST
DTSTART:20240331T010000
END:DAYLIGHT
BEGIN:STANDARD
TZOFFSETFROM:+0200
TZOFFSETTO:+0100
TZNAME:CET
DTSTART:20241027T010000
END:STANDARD
BEGIN:DAYLIGHT
TZOFFSETFROM:+0100
TZOFFSETTO:+0200
TZNAME:CEST
DTSTART:20250330T010000
END:DAYLIGHT
BEGIN:STANDARD
TZOFFSETFROM:+0200
TZOFFSETTO:+0100
TZNAME:CET
DTSTART:20251026T010000
END:STANDARD
END:VTIMEZONE
BEGIN:VEVENT
DTSTART;TZID=Europe/Berlin:20240622T100000
DTEND;TZID=Europe/Berlin:20240623T140000
DTSTAMP:20260421T014942
CREATED:20231219T110226Z
LAST-MODIFIED:20231219T110226Z
UID:33735-1719050400-1719151200@ringtennis.de
SUMMARY:Süddeutsche Meisterschaften 2024
DESCRIPTION:Die Süddeutschen Meisterschaften sind die letzte Qualifikationsrunde für die Deutschen Meisterschaften. Hier kämpfen die Spielerinnen und Spieler der jeweiligen Landesturnverbände um die vier Qualifikationsplätze und den Titel des süddeutschen Meisters.
URL:https://ringtennis.de:/termine/sueddeutsche-meisterschaften-2024/
LOCATION:Kieselbronn – Heinloch\, Heinloch 1\, Kieselbronn\, 75249
CATEGORIES:Meisterschaft
END:VEVENT
END:VCALENDAR