BEGIN:VCALENDAR
VERSION:2.0
PRODID:-//Ringtennis - ECPv6.15.20//NONSGML v1.0//EN
CALSCALE:GREGORIAN
METHOD:PUBLISH
X-WR-CALNAME:Ringtennis
X-ORIGINAL-URL:https://ringtennis.de:
X-WR-CALDESC:Veranstaltungen für Ringtennis
REFRESH-INTERVAL;VALUE=DURATION:PT1H
X-Robots-Tag:noindex
X-PUBLISHED-TTL:PT1H
BEGIN:VTIMEZONE
TZID:Europe/Berlin
BEGIN:DAYLIGHT
TZOFFSETFROM:+0100
TZOFFSETTO:+0200
TZNAME:CEST
DTSTART:20230326T010000
END:DAYLIGHT
BEGIN:STANDARD
TZOFFSETFROM:+0200
TZOFFSETTO:+0100
TZNAME:CET
DTSTART:20231029T010000
END:STANDARD
BEGIN:DAYLIGHT
TZOFFSETFROM:+0100
TZOFFSETTO:+0200
TZNAME:CEST
DTSTART:20240331T010000
END:DAYLIGHT
BEGIN:STANDARD
TZOFFSETFROM:+0200
TZOFFSETTO:+0100
TZNAME:CET
DTSTART:20241027T010000
END:STANDARD
BEGIN:DAYLIGHT
TZOFFSETFROM:+0100
TZOFFSETTO:+0200
TZNAME:CEST
DTSTART:20250330T010000
END:DAYLIGHT
BEGIN:STANDARD
TZOFFSETFROM:+0200
TZOFFSETTO:+0100
TZNAME:CET
DTSTART:20251026T010000
END:STANDARD
END:VTIMEZONE
BEGIN:VEVENT
DTSTART;TZID=Europe/Berlin:20240906T100000
DTEND;TZID=Europe/Berlin:20240908T140000
DTSTAMP:20260420T165527
CREATED:20231219T111157Z
LAST-MODIFIED:20240503T142317Z
UID:33748-1725616800-1725804000@ringtennis.de
SUMMARY:Deutsche Meisterschaften 2024
DESCRIPTION:Die Deutschen Meisterschaften sind das große Finale der Feldsaison\, bei der die besten Spielerinnen und Spieler Deutschlands aufeinander treffen und um den Titel Meistertitel kämpfen. Ausrichter ist (nach sechs Jahren) wieder die TG Groß-Karben. \nAlle weiteren Infos und Downloads sind auf einer eigenen Seite für die DM 2024 zusammengefasst.
URL:https://ringtennis.de:/termine/deutsche-meisterschaften-2024/
LOCATION:Karben – Stadion an der Waldhohl\, Waldhohlweg\, Karben\, 61184
CATEGORIES:Meisterschaft
END:VEVENT
END:VCALENDAR