BEGIN:VCALENDAR
VERSION:2.0
PRODID:-//Ringtennis - ECPv6.15.20//NONSGML v1.0//EN
CALSCALE:GREGORIAN
METHOD:PUBLISH
X-ORIGINAL-URL:https://ringtennis.de:
X-WR-CALDESC:Veranstaltungen für Ringtennis
REFRESH-INTERVAL;VALUE=DURATION:PT1H
X-Robots-Tag:noindex
X-PUBLISHED-TTL:PT1H
BEGIN:VTIMEZONE
TZID:Europe/Berlin
BEGIN:DAYLIGHT
TZOFFSETFROM:+0100
TZOFFSETTO:+0200
TZNAME:CEST
DTSTART:20230326T010000
END:DAYLIGHT
BEGIN:STANDARD
TZOFFSETFROM:+0200
TZOFFSETTO:+0100
TZNAME:CET
DTSTART:20231029T010000
END:STANDARD
BEGIN:DAYLIGHT
TZOFFSETFROM:+0100
TZOFFSETTO:+0200
TZNAME:CEST
DTSTART:20240331T010000
END:DAYLIGHT
BEGIN:STANDARD
TZOFFSETFROM:+0200
TZOFFSETTO:+0100
TZNAME:CET
DTSTART:20241027T010000
END:STANDARD
BEGIN:DAYLIGHT
TZOFFSETFROM:+0100
TZOFFSETTO:+0200
TZNAME:CEST
DTSTART:20250330T010000
END:DAYLIGHT
BEGIN:STANDARD
TZOFFSETFROM:+0200
TZOFFSETTO:+0100
TZNAME:CET
DTSTART:20251026T010000
END:STANDARD
END:VTIMEZONE
BEGIN:VEVENT
DTSTART;TZID=Europe/Berlin:20241109T100000
DTEND;TZID=Europe/Berlin:20241110T140000
DTSTAMP:20260420T212823
CREATED:20240810T080157Z
LAST-MODIFIED:20241107T183230Z
UID:34401-1731146400-1731247200@ringtennis.de
SUMMARY:Zahlwald-Cup 2024
DESCRIPTION:Der Zahlwald-Cup ist ein Mannschaftsturnier\, dass regelmäßig von der SKG Roßdorf ausgerichtet wird. Hier treffen Mannschaften in verschiedenen Spielen gegeneinander an. Wer am meisten Spiele gewinnt\, gewinnt die Begegnung. Die Mannschaft mit den meisten Begegnungssiegen gewinnt das Turnier. \n \n\n  \n    \n      \n        draft\n        \n          Ausschreibung - ZahlwaldCup 2024 \n          PDF \n        \n        download
URL:https://ringtennis.de:/termine/zahlwald-cup-2024/
LOCATION:Roßdorf – Zahlwaldhalle\, Alte Dieburger Str. 56\, Roßdorf\, 64380
CATEGORIES:Offenes Turnier
END:VEVENT
END:VCALENDAR