BEGIN:VCALENDAR
VERSION:2.0
PRODID:-//Ringtennis - ECPv6.15.20//NONSGML v1.0//EN
CALSCALE:GREGORIAN
METHOD:PUBLISH
X-WR-CALNAME:Ringtennis
X-ORIGINAL-URL:https://ringtennis.de:
X-WR-CALDESC:Veranstaltungen für Ringtennis
REFRESH-INTERVAL;VALUE=DURATION:PT1H
X-Robots-Tag:noindex
X-PUBLISHED-TTL:PT1H
BEGIN:VTIMEZONE
TZID:Europe/Berlin
BEGIN:DAYLIGHT
TZOFFSETFROM:+0100
TZOFFSETTO:+0200
TZNAME:CEST
DTSTART:20250330T010000
END:DAYLIGHT
BEGIN:STANDARD
TZOFFSETFROM:+0200
TZOFFSETTO:+0100
TZNAME:CET
DTSTART:20251026T010000
END:STANDARD
BEGIN:DAYLIGHT
TZOFFSETFROM:+0100
TZOFFSETTO:+0200
TZNAME:CEST
DTSTART:20260329T010000
END:DAYLIGHT
BEGIN:STANDARD
TZOFFSETFROM:+0200
TZOFFSETTO:+0100
TZNAME:CET
DTSTART:20261025T010000
END:STANDARD
BEGIN:DAYLIGHT
TZOFFSETFROM:+0100
TZOFFSETTO:+0200
TZNAME:CEST
DTSTART:20270328T010000
END:DAYLIGHT
BEGIN:STANDARD
TZOFFSETFROM:+0200
TZOFFSETTO:+0100
TZNAME:CET
DTSTART:20271031T010000
END:STANDARD
END:VTIMEZONE
BEGIN:VEVENT
DTSTART;TZID=Europe/Berlin:20261107T100000
DTEND;TZID=Europe/Berlin:20261108T140000
DTSTAMP:20260419T213055
CREATED:20251212T134652Z
LAST-MODIFIED:20251212T134903Z
UID:36452-1794045600-1794146400@ringtennis.de
SUMMARY:Zahlwald-Cup 2026
DESCRIPTION:Der Zahlwald-Cup ist ein Mannschaftsturnier\, dass regelmäßig von der SKG Roßdorf ausgerichtet wird. Hier treffen Mannschaften in verschiedenen Spielen gegeneinander an. Wer am meisten Spiele gewinnt\, gewinnt die Begegnung. Die Mannschaft mit den meisten Begegnungssiegen gewinnt das Turnier.
URL:https://ringtennis.de:/termine/zahlwald-cup-2026/
LOCATION:Roßdorf – Zahlwaldhalle\, Alte Dieburger Str. 56\, Roßdorf\, 64380
CATEGORIES:Offenes Turnier
END:VEVENT
END:VCALENDAR