BEGIN:VCALENDAR
VERSION:2.0
PRODID:-//Ringtennis - ECPv6.15.20//NONSGML v1.0//EN
CALSCALE:GREGORIAN
METHOD:PUBLISH
X-ORIGINAL-URL:https://ringtennis.de:
X-WR-CALDESC:Veranstaltungen für Ringtennis
REFRESH-INTERVAL;VALUE=DURATION:PT1H
X-Robots-Tag:noindex
X-PUBLISHED-TTL:PT1H
BEGIN:VTIMEZONE
TZID:Europe/Berlin
BEGIN:DAYLIGHT
TZOFFSETFROM:+0100
TZOFFSETTO:+0200
TZNAME:CEST
DTSTART:20260329T010000
END:DAYLIGHT
BEGIN:STANDARD
TZOFFSETFROM:+0200
TZOFFSETTO:+0100
TZNAME:CET
DTSTART:20261025T010000
END:STANDARD
BEGIN:DAYLIGHT
TZOFFSETFROM:+0100
TZOFFSETTO:+0200
TZNAME:CEST
DTSTART:20270328T010000
END:DAYLIGHT
BEGIN:STANDARD
TZOFFSETFROM:+0200
TZOFFSETTO:+0100
TZNAME:CET
DTSTART:20271031T010000
END:STANDARD
BEGIN:DAYLIGHT
TZOFFSETFROM:+0100
TZOFFSETTO:+0200
TZNAME:CEST
DTSTART:20280326T010000
END:DAYLIGHT
BEGIN:STANDARD
TZOFFSETFROM:+0200
TZOFFSETTO:+0100
TZNAME:CET
DTSTART:20281029T010000
END:STANDARD
END:VTIMEZONE
BEGIN:VEVENT
DTSTART;TZID=Europe/Berlin:20270116T100000
DTEND;TZID=Europe/Berlin:20270117T140000
DTSTAMP:20260420T003059
CREATED:20250217T174850Z
LAST-MODIFIED:20250217T174850Z
UID:35556-1800093600-1800194400@ringtennis.de
SUMMARY:Bundestagung 2027
DESCRIPTION:Bei der Bundestagung treffen sich die Landesfachwarte mit den Mitgliedern des Technischen Komitees und Wettkampfrates zur Besprechung und Gestaltung des Ringtennis-Jahres. Die Tagung trifft richtungsweisende Entscheidungen für die Entwicklung des Fachgebietes.
URL:https://ringtennis.de:/termine/bundestagung-2027/
CATEGORIES:Bundestagung
END:VEVENT
END:VCALENDAR