BEGIN:VCALENDAR
VERSION:2.0
PRODID:-//Ringtennis - ECPv6.15.20//NONSGML v1.0//EN
CALSCALE:GREGORIAN
METHOD:PUBLISH
X-ORIGINAL-URL:https://ringtennis.de:
X-WR-CALDESC:Veranstaltungen für Ringtennis
REFRESH-INTERVAL;VALUE=DURATION:PT1H
X-Robots-Tag:noindex
X-PUBLISHED-TTL:PT1H
BEGIN:VTIMEZONE
TZID:Europe/Berlin
BEGIN:DAYLIGHT
TZOFFSETFROM:+0100
TZOFFSETTO:+0200
TZNAME:CEST
DTSTART:20220327T010000
END:DAYLIGHT
BEGIN:STANDARD
TZOFFSETFROM:+0200
TZOFFSETTO:+0100
TZNAME:CET
DTSTART:20221030T010000
END:STANDARD
BEGIN:DAYLIGHT
TZOFFSETFROM:+0100
TZOFFSETTO:+0200
TZNAME:CEST
DTSTART:20230326T010000
END:DAYLIGHT
BEGIN:STANDARD
TZOFFSETFROM:+0200
TZOFFSETTO:+0100
TZNAME:CET
DTSTART:20231029T010000
END:STANDARD
BEGIN:DAYLIGHT
TZOFFSETFROM:+0100
TZOFFSETTO:+0200
TZNAME:CEST
DTSTART:20240331T010000
END:DAYLIGHT
BEGIN:STANDARD
TZOFFSETFROM:+0200
TZOFFSETTO:+0100
TZNAME:CET
DTSTART:20241027T010000
END:STANDARD
END:VTIMEZONE
BEGIN:VEVENT
DTSTART;TZID=Europe/Berlin:20231105T100000
DTEND;TZID=Europe/Berlin:20231105T150000
DTSTAMP:20260421T103533
CREATED:20231019T185859Z
LAST-MODIFIED:20231023T090324Z
UID:32655-1699178400-1699196400@ringtennis.de
SUMMARY:Regionalliga Nord 2023/24
DESCRIPTION:HINWEIS: Der Spieltag wird auf Dezember verschoben. Das Datum wird zeitnah bekanntgegeben. \n \nIn der Regionalliga Nord spielen Mannschaften der norddeutschen Ringtennis-Vereine in mehreren Begegnungen gegeneinander.\nDie besten zwei Mannschaften qualifizieren sich für die Deutschen Mannschaftsmeisterschaften 2024.
URL:https://ringtennis.de:/termine/regionalliga-nord/
LOCATION:Bodenwerder – Sporthalle\, Bodenwerder\, 37619
CATEGORIES:Liga
END:VEVENT
BEGIN:VEVENT
DTSTART;TZID=Europe/Berlin:20231111T090000
DTEND;TZID=Europe/Berlin:20231111T160000
DTSTAMP:20260421T103533
CREATED:20231019T193729Z
LAST-MODIFIED:20231219T104723Z
UID:32677-1699693200-1699718400@ringtennis.de
SUMMARY:Hessenpokal 2023
DESCRIPTION:Der Hessenpokal ist ein Mannschaftsturnier für alle Altersklassen und wird im Wechsel von den hessischen Vereinen ausgetragen. Dieses Jahr findet der Hessenpokal in Karben statt. \n\n  \n    \n      \n        draft\n        \n          Ausschreibung Hessenpokal 2023 \n          PDF \n        \n        download
URL:https://ringtennis.de:/termine/hessenpokal-2023/
LOCATION:Karben – Kurt-Schumacher-Schule\, Am Kirschenberg\, Karben\, 61184
CATEGORIES:Offenes Turnier
END:VEVENT
BEGIN:VEVENT
DTSTART;TZID=Europe/Berlin:20231125T100000
DTEND;TZID=Europe/Berlin:20231125T150000
DTSTAMP:20260421T103533
CREATED:20231019T190157Z
LAST-MODIFIED:20231019T191126Z
UID:32659-1700906400-1700924400@ringtennis.de
SUMMARY:Jugendliga Nord 2023/24
DESCRIPTION:In der Hinrunde der Jugendliga Nord treffen die Jugendmannschaften aus Norddeutschland aufeinander. Die besten zwei Mannschaften nach der Rückrunde qualifizieren sich für die Deutschen Jugendmannschaftsmeisterschaften 2024.
URL:https://ringtennis.de:/termine/jugendliga-nord-2023-24/
LOCATION:Suderwich – Günter-Hörster-Halle\, Markomannenstraße 16\, Recklinghausen\, 45665
CATEGORIES:Liga
END:VEVENT
END:VCALENDAR