BEGIN:VCALENDAR
VERSION:2.0
PRODID:-//Ringtennis - ECPv6.15.20//NONSGML v1.0//EN
CALSCALE:GREGORIAN
METHOD:PUBLISH
X-WR-CALNAME:Ringtennis
X-ORIGINAL-URL:https://ringtennis.de:
X-WR-CALDESC:Veranstaltungen für Ringtennis
REFRESH-INTERVAL;VALUE=DURATION:PT1H
X-Robots-Tag:noindex
X-PUBLISHED-TTL:PT1H
BEGIN:VTIMEZONE
TZID:Europe/Berlin
BEGIN:DAYLIGHT
TZOFFSETFROM:+0100
TZOFFSETTO:+0200
TZNAME:CEST
DTSTART:20230326T010000
END:DAYLIGHT
BEGIN:STANDARD
TZOFFSETFROM:+0200
TZOFFSETTO:+0100
TZNAME:CET
DTSTART:20231029T010000
END:STANDARD
BEGIN:DAYLIGHT
TZOFFSETFROM:+0100
TZOFFSETTO:+0200
TZNAME:CEST
DTSTART:20240331T010000
END:DAYLIGHT
BEGIN:STANDARD
TZOFFSETFROM:+0200
TZOFFSETTO:+0100
TZNAME:CET
DTSTART:20241027T010000
END:STANDARD
BEGIN:DAYLIGHT
TZOFFSETFROM:+0100
TZOFFSETTO:+0200
TZNAME:CEST
DTSTART:20250330T010000
END:DAYLIGHT
BEGIN:STANDARD
TZOFFSETFROM:+0200
TZOFFSETTO:+0100
TZNAME:CET
DTSTART:20251026T010000
END:STANDARD
END:VTIMEZONE
BEGIN:VEVENT
DTSTART;TZID=Europe/Berlin:20240602T100000
DTEND;TZID=Europe/Berlin:20240602T170000
DTSTAMP:20260421T002604
CREATED:20240503T141141Z
LAST-MODIFIED:20240503T141202Z
UID:34070-1717322400-1717347600@ringtennis.de
SUMMARY:Niedersächsische Landesmeisterschaften 2024
DESCRIPTION:Bei den niedersächsischen Meisterschaften spielen die niedersächsischen Vereine um den Landestitel. Die zwei besten Spielerinnen und Spieler der Landesmeisterschaften qualifizieren sich für die Norddeutschen Meisterschaften.
URL:https://ringtennis.de:/termine/niedersaechsische-landesmeisterschaften-2024/
LOCATION:Hannover – Sonnensee\, Waldstraße 99\, Hannover\, 30629
CATEGORIES:Meisterschaft
END:VEVENT
BEGIN:VEVENT
DTSTART;TZID=Europe/Berlin:20240608T090000
DTEND;TZID=Europe/Berlin:20240609T160000
DTSTAMP:20260421T002604
CREATED:20240528T063844Z
LAST-MODIFIED:20240531T082543Z
UID:34170-1717837200-1717948800@ringtennis.de
SUMMARY:Hessische Landesmeisterschaften 2024
DESCRIPTION:Bei den hessischen Meisterschaften spielen die hessischen Vereine um den Landestitel. Die zwei besten Spielerinnen und Spieler der Landesmeisterschaften qualifizieren sich für die Süddeutschen Meisterschaften.
URL:https://ringtennis.de:/termine/hessische-landesmeisterschaften-2024/
LOCATION:Roßdorf – Sportzentrum\, Theodor-Clausen-Straße 54\, Roßdorf\, 64380
CATEGORIES:Meisterschaft
END:VEVENT
BEGIN:VEVENT
DTSTART;TZID=Europe/Berlin:20240615T100000
DTEND;TZID=Europe/Berlin:20240616T140000
DTSTAMP:20260421T002604
CREATED:20240215T213014Z
LAST-MODIFIED:20240215T213014Z
UID:33913-1718445600-1718546400@ringtennis.de
SUMMARY:Norddeutsche Meisterschaften 2024
DESCRIPTION:Vom 15.06.2024 bis zum 16.06.2024 finden die Norddeutschen Meisterschaften in Siegen statt. Die besten vier Mannschaften pro Spielklasse qualifizieren sich für die Deutschen Meisterschaften Anfang September in Karben.
URL:https://ringtennis.de:/termine/norddeutsche-meisterschaften-2024/
LOCATION:Siegen – Sportplatz Glückaufstraße\, Glückaufstraße 35\, Siegen\, 57076
CATEGORIES:Meisterschaft
END:VEVENT
BEGIN:VEVENT
DTSTART;TZID=Europe/Berlin:20240622T100000
DTEND;TZID=Europe/Berlin:20240623T140000
DTSTAMP:20260421T002604
CREATED:20231219T110226Z
LAST-MODIFIED:20231219T110226Z
UID:33735-1719050400-1719151200@ringtennis.de
SUMMARY:Süddeutsche Meisterschaften 2024
DESCRIPTION:Die Süddeutschen Meisterschaften sind die letzte Qualifikationsrunde für die Deutschen Meisterschaften. Hier kämpfen die Spielerinnen und Spieler der jeweiligen Landesturnverbände um die vier Qualifikationsplätze und den Titel des süddeutschen Meisters.
URL:https://ringtennis.de:/termine/sueddeutsche-meisterschaften-2024/
LOCATION:Kieselbronn – Heinloch\, Heinloch 1\, Kieselbronn\, 75249
CATEGORIES:Meisterschaft
END:VEVENT
END:VCALENDAR