BEGIN:VCALENDAR
VERSION:2.0
PRODID:-//Ringtennis - ECPv6.15.20//NONSGML v1.0//EN
CALSCALE:GREGORIAN
METHOD:PUBLISH
X-ORIGINAL-URL:https://ringtennis.de:
X-WR-CALDESC:Veranstaltungen für Ringtennis
REFRESH-INTERVAL;VALUE=DURATION:PT1H
X-Robots-Tag:noindex
X-PUBLISHED-TTL:PT1H
BEGIN:VTIMEZONE
TZID:Europe/Berlin
BEGIN:DAYLIGHT
TZOFFSETFROM:+0100
TZOFFSETTO:+0200
TZNAME:CEST
DTSTART:20230326T010000
END:DAYLIGHT
BEGIN:STANDARD
TZOFFSETFROM:+0200
TZOFFSETTO:+0100
TZNAME:CET
DTSTART:20231029T010000
END:STANDARD
BEGIN:DAYLIGHT
TZOFFSETFROM:+0100
TZOFFSETTO:+0200
TZNAME:CEST
DTSTART:20240331T010000
END:DAYLIGHT
BEGIN:STANDARD
TZOFFSETFROM:+0200
TZOFFSETTO:+0100
TZNAME:CET
DTSTART:20241027T010000
END:STANDARD
BEGIN:DAYLIGHT
TZOFFSETFROM:+0100
TZOFFSETTO:+0200
TZNAME:CEST
DTSTART:20250330T010000
END:DAYLIGHT
BEGIN:STANDARD
TZOFFSETFROM:+0200
TZOFFSETTO:+0100
TZNAME:CET
DTSTART:20251026T010000
END:STANDARD
END:VTIMEZONE
BEGIN:VEVENT
DTSTART;TZID=Europe/Berlin:20240803T100000
DTEND;TZID=Europe/Berlin:20240804T140000
DTSTAMP:20260420T195651
CREATED:20240414T112914Z
LAST-MODIFIED:20240725T093103Z
UID:34000-1722679200-1722780000@ringtennis.de
SUMMARY:Bodenseeturnier 2024
DESCRIPTION:Nach sieben Jahren Pause kehrt das Traditionsturnier am Bodensee zurück: Am 03. und 04. August werden wieder die Ringe in Konstanz fliegen! \n \n\n  \n    \n      \n        draft\n        \n          Ausschreibung - Bodenseeturnier 2024 \n          PDF \n        \n        download\n      \n    \n  \n  \n\n  \n    \n      \n        draft\n        \n          Merkblatt - Bodenseeturnier 2024 \n          PDF \n        \n        download\n      \n    \n  \n  \n\n  \n    \n      \n        draft\n        \n          Meldebogen- Bodenseeturnier 2024 \n          XLS \n        \n        download
URL:https://ringtennis.de:/termine/bodenseeturnier-2024/
LOCATION:Konstanz – Strandbad Hörnle\, Eichhornstraße 89\, Konstanz\, 78464
CATEGORIES:Offenes Turnier
END:VEVENT
END:VCALENDAR