BEGIN:VCALENDAR
VERSION:2.0
PRODID:-//Ringtennis - ECPv6.15.20//NONSGML v1.0//EN
CALSCALE:GREGORIAN
METHOD:PUBLISH
X-ORIGINAL-URL:https://ringtennis.de:
X-WR-CALDESC:Veranstaltungen für Ringtennis
REFRESH-INTERVAL;VALUE=DURATION:PT1H
X-Robots-Tag:noindex
X-PUBLISHED-TTL:PT1H
BEGIN:VTIMEZONE
TZID:Europe/Berlin
BEGIN:DAYLIGHT
TZOFFSETFROM:+0100
TZOFFSETTO:+0200
TZNAME:CEST
DTSTART:20240331T010000
END:DAYLIGHT
BEGIN:STANDARD
TZOFFSETFROM:+0200
TZOFFSETTO:+0100
TZNAME:CET
DTSTART:20241027T010000
END:STANDARD
BEGIN:DAYLIGHT
TZOFFSETFROM:+0100
TZOFFSETTO:+0200
TZNAME:CEST
DTSTART:20250330T010000
END:DAYLIGHT
BEGIN:STANDARD
TZOFFSETFROM:+0200
TZOFFSETTO:+0100
TZNAME:CET
DTSTART:20251026T010000
END:STANDARD
BEGIN:DAYLIGHT
TZOFFSETFROM:+0100
TZOFFSETTO:+0200
TZNAME:CEST
DTSTART:20260329T010000
END:DAYLIGHT
BEGIN:STANDARD
TZOFFSETFROM:+0200
TZOFFSETTO:+0100
TZNAME:CET
DTSTART:20261025T010000
END:STANDARD
END:VTIMEZONE
BEGIN:VEVENT
DTSTART;TZID=Europe/Berlin:20250105T100000
DTEND;TZID=Europe/Berlin:20250105T160000
DTSTAMP:20260420T123725
CREATED:20240121T093512Z
LAST-MODIFIED:20241124T160507Z
UID:33843-1736071200-1736092800@ringtennis.de
SUMMARY:Regionalliga Mitte 2024/25
DESCRIPTION:In der Regionalliga Mitte spielen Mannschaften der mitteldeutschen Ringtennis-Vereine in mehreren Begegnungen gegeneinander.\nDie besten zwei Mannschaften qualifizieren sich für die Deutschen Mannschaftsmeisterschaften 2024. \n\n  \n    \n      \n        draft\n        \n          Ausschreibung - Regionalliga Mitte 2024/25 \n          PDF \n        \n        download
URL:https://ringtennis.de:/termine/regionalliga-mitte-2024-25/
LOCATION:Suderwich – Günter-Hörster-Halle\, Markomannenstraße 16\, Recklinghausen\, 45665
CATEGORIES:Liga
END:VEVENT
BEGIN:VEVENT
DTSTART;TZID=Europe/Berlin:20250111T100000
DTEND;TZID=Europe/Berlin:20250111T150000
DTSTAMP:20260420T123725
CREATED:20240121T094156Z
LAST-MODIFIED:20241005T192727Z
UID:33846-1736589600-1736607600@ringtennis.de
SUMMARY:Hein-Cup 2025 (1)
DESCRIPTION:„If you want to be champion\, you have to beat them all.“ – Hein van der Lith\nBeim Hein-Cup treten die Spielerinnen und Spieler im Round-Robin-Modus gegeneinander. Wer alle anderen schlägt\, wird Champion. \n\n  \n    \n      \n        draft\n        \n          Ausschreibung - Hein-Cup 2025 \n          PDF \n        \n        download
URL:https://ringtennis.de:/termine/hein-cup-2025-1/
LOCATION:Pforzheim – Reuchlin-Gymnasium\, Schwarzwaldstraße 84\, Pforzheim\, 75173
CATEGORIES:Offenes Turnier
END:VEVENT
BEGIN:VEVENT
DTSTART;TZID=Europe/Berlin:20250125T093000
DTEND;TZID=Europe/Berlin:20250125T170000
DTSTAMP:20260420T123725
CREATED:20240531T084206Z
LAST-MODIFIED:20241027T173249Z
UID:34184-1737797400-1737824400@ringtennis.de
SUMMARY:Deutsche Schülerliga 2025
DESCRIPTION:Das Traditionsturnier des TV Rübenachs findet wieder zum Traditionstermin Ende Januar statt. Organisatorin Sarah Kissinger freut sich\, die zahlreichen Schülermannschaften aus ganz Deutschland in Rübenach begrüßen zu dürfen. \n\n  \n    \n      \n        draft\n        \n          Ausschreibung - Deutsche Schülerliga 2025 \n          PDF \n        \n        download
URL:https://ringtennis.de:/termine/deutsche-schuelerliga-2025/
LOCATION:Rübenach – Franz-Mohrs-Halle\, Am Mühlenteich 2\, Koblenz\, 56072
CATEGORIES:Liga
END:VEVENT
END:VCALENDAR